BEGIN:VCALENDAR
VERSION:2.0
PRODID:spatie/icalendar-generator
DESCRIPTION:Händelser från Johan Seige
X-WR-CALDESC:Händelser från Johan Seige
REFRESH-INTERVAL;VALUE=DURATION:PT1440M
X-PUBLISHED-TTL:PT1440M
BEGIN:VTIMEZONE
TZID:Etc/GMT+0
BEGIN:STANDARD
DTSTART:20250701T000000Z
TZOFFSETFROM:+0000
TZOFFSETTO:+0000
END:STANDARD
END:VTIMEZONE
BEGIN:VTIMEZONE
TZID:UTC
BEGIN:STANDARD
DTSTART:20250723T145810Z
TZOFFSETFROM:+0000
TZOFFSETTO:+0000
END:STANDARD
END:VTIMEZONE
BEGIN:VEVENT
UID:2-2
DTSTAMP:20260419T145810Z
SUMMARY:test
LOCATION:
ORGANIZER;CN=brweb:MAILTO:web@brutroad.se
DTSTART;TZID=Etc/GMT+0;VALUE=DATE:20260328
DTEND;TZID=Etc/GMT+0;VALUE=DATE:20260329
X-ALT-DESC;FMTTYPE=TEXT/HTML:test
CATEGORIES:General
URL;VALUE=URI:https://www.brutroad.se/mc-events/test/
METHOD:PUBLISH
END:VEVENT
END:VCALENDAR